BEGIN:VCALENDAR
VERSION:2.0
PRODID:-//nesa1.ca//NONSGML kigkonsult.se iCalcreator 2.30.10//
CALSCALE:GREGORIAN
METHOD:PUBLISH
UID:d124893e-e925-43e4-9862-3903639b01d7
X-WR-CALDESC:There's still room for you!!! Join fellow members and friends 
 of the NESA Community for an afternoon of delicious dining\, trunk or trea
 ting\, and some spooky stories!\n\nLunch - 11:30am-1:00pm -Halloween Speci
 al $8/person (Ordering in advance is not required).\nTrunk or Treat - 1:00
 pm\nSpooky Stories by the Cemetery - 2:00pm\n\nClick the link below for mo
 re information about what special activities we have planned - we look for
 ward to seeing you soon!\n\n***Please note that due to the complexities of
  Covid-19\, the event could be cancelled with short notice. Please check o
 ur website or call our office for updates***
X-WR-RELCALID:34afb1169fc02758b7afa0cd9a553a82
X-WR-TIMEZONE:America/Denver
BEGIN:VTIMEZONE
TZID:America/Denver
BEGIN:STANDARD
TZNAME:MST
DTSTART:20191103T020000
TZOFFSETFROM:-0600
TZOFFSETTO:-0700
RDATE:20201101T020000
RDATE:20211107T020000
END:STANDARD
BEGIN:DAYLIGHT
TZNAME:MDT
DTSTART:20200308T020000
TZOFFSETFROM:-0700
TZOFFSETTO:-0600
RDATE:20210314T020000
RDATE:20220313T020000
END:DAYLIGHT
END:VTIMEZONE
BEGIN:VEVENT
UID:6f007aef-c264-473b-aa64-b29c1ec25d3e
DTSTAMP:20260423T024743Z
DESCRIPTION:There's still room for you!!! Join fellow members and friends o
 f the NESA Community for an afternoon of delicious dining\, trunk or treat
 ing\, and some spooky stories!\n\nLunch - 11:30am-1:00pm -Halloween Specia
 l $8/person (Ordering in advance is not required).\nTrunk or Treat - 1:00p
 m\nSpooky Stories by the Cemetery - 2:00pm\n\nClick the link below for mor
 e information about what special activities we have planned - we look forw
 ard to seeing you soon!\n\n***Please note that due to the complexities of 
 Covid-19\, the event could be cancelled with short notice. Please check ou
 r website or call our office for updates***
DTSTART;TZID=America/Denver:20201030T113000
DTEND;TZID=America/Denver:20201030T150000
LOCATION:7524-139 Avenue
SUMMARY:Halloween Fun at NESA!
END:VEVENT
END:VCALENDAR
