BEGIN:VCALENDAR
VERSION:2.0
PRODID:-//nesa1.ca//NONSGML kigkonsult.se iCalcreator 2.30.10//
CALSCALE:GREGORIAN
METHOD:PUBLISH
UID:b8e51655-9b37-4a03-b1c8-601b6e99b229
X-WR-CALDESC:Bring your empties to support the North Edmonton Senior Associ
 ation bottle drive on Wednesday\, April 7\, 2021 and then stop by for a de
 licious BBQ lunch between 11:30am to 1:00pm! For only $8 you can enjoy a H
 amburger\, Coleslaw and Potato salad with your choice of Coffee or Tea. Th
 e BBQ will be in front of the EMMA Catering side doors. Call EMMA Catering
  today to reserve your spot for this outdoor feast - reservations are requ
 ired by 4:00pm on Monday\, April 5\, 2021.\n
X-WR-RELCALID:d291637be424e4c5aff6203d29080d08
X-WR-TIMEZONE:America/Denver
BEGIN:VTIMEZONE
TZID:America/Denver
BEGIN:STANDARD
TZNAME:MST
DTSTART:20201101T020000
TZOFFSETFROM:-0600
TZOFFSETTO:-0700
RDATE:20211107T020000
END:STANDARD
BEGIN:DAYLIGHT
TZNAME:MDT
DTSTART:20210314T020000
TZOFFSETFROM:-0700
TZOFFSETTO:-0600
RDATE:20220313T020000
END:DAYLIGHT
END:VTIMEZONE
BEGIN:VEVENT
UID:d278d4fe-21f0-4f15-a438-bf0eee520949
DTSTAMP:20260420T144303Z
DESCRIPTION:Bring your empties to support the North Edmonton Senior Associa
 tion bottle drive on Wednesday\, April 7\, 2021 and then stop by for a del
 icious BBQ lunch between 11:30am to 1:00pm! For only $8 you can enjoy a Ha
 mburger\, Coleslaw and Potato salad with your choice of Coffee or Tea. The
  BBQ will be in front of the EMMA Catering side doors. Call EMMA Catering 
 today to reserve your spot for this outdoor feast - reservations are requi
 red by 4:00pm on Monday\, April 5\, 2021.\n
DTSTART;TZID=America/Denver:20210407T113000
DTEND;TZID=America/Denver:20210407T130000
LOCATION:7524-139 Avenue
SUMMARY:Bottle Drive BBQ (By EMMA Catering)
END:VEVENT
END:VCALENDAR
