BEGIN:VCALENDAR
VERSION:2.0
PRODID:-//nesa1.ca//NONSGML kigkonsult.se iCalcreator 2.30.10//
CALSCALE:GREGORIAN
METHOD:PUBLISH
UID:9aa222b2-56f3-4747-a0f1-b3e6dc3407d1
X-WR-CALDESC:During the first full week of June\, Albertans show appreciati
 on for the many contributions that seniors have made to our community.\n\n
 Seniors' Week is a time to commemorate the positivity of active living and
  learning at any age. Although NESA acknowledges this all year round\, we 
 are pleased to be able to offer the senior community a week of celebration
 . While this year's celebration has to be done virtually\, we hope you wil
 l join us for an action-packed week of programs and activities! As way of 
 saying thank you and for showing gratitude for all of Alberta's amazing se
 niors\, we would like to gift you with a week of free activities and progr
 ams!\n\nCheck out the activities we have listed on our Seniors' Week Activ
 ities page and schedule yourself in for some virtual fun! Know another sen
 ior who might like to join in on these activities? Whether a NESA member o
 r not\, we invite all seniors to participate!
X-WR-RELCALID:7711c716d9bdcdd22f55686b48ccffeb
X-WR-TIMEZONE:America/Denver
BEGIN:VTIMEZONE
TZID:America/Denver
BEGIN:STANDARD
TZNAME:MST
DTSTART:20201101T020000
TZOFFSETFROM:-0600
TZOFFSETTO:-0700
RDATE:20211107T020000
RDATE:20221106T020000
END:STANDARD
BEGIN:DAYLIGHT
TZNAME:MDT
DTSTART:20210314T020000
TZOFFSETFROM:-0700
TZOFFSETTO:-0600
RDATE:20220313T020000
END:DAYLIGHT
END:VTIMEZONE
BEGIN:VEVENT
UID:06edfe93-e8f2-467c-beb6-034124531104
DTSTAMP:20260421T054950Z
DESCRIPTION:During the first full week of June\, Albertans show appreciatio
 n for the many contributions that seniors have made to our community.\n\nS
 eniors' Week is a time to commemorate the positivity of active living and 
 learning at any age. Although NESA acknowledges this all year round\, we a
 re pleased to be able to offer the senior community a week of celebration.
  While this year's celebration has to be done virtually\, we hope you will
  join us for an action-packed week of programs and activities! As way of s
 aying thank you and for showing gratitude for all of Alberta's amazing sen
 iors\, we would like to gift you with a week of free activities and progra
 ms!\n\nCheck out the activities we have listed on our Seniors' Week Activi
 ties page and schedule yourself in for some virtual fun! Know another seni
 or who might like to join in on these activities? Whether a NESA member or
  not\, we invite all seniors to participate!
DTSTART;TZID=America/Denver:20210607T090000
DTEND;TZID=America/Denver:20210613T140000
LOCATION:Online
SUMMARY:Seniors' Week - A Virtual Celebration
END:VEVENT
END:VCALENDAR
