BEGIN:VCALENDAR
VERSION:2.0
PRODID:-//nesa1.ca//NONSGML kigkonsult.se iCalcreator 2.30.10//
CALSCALE:GREGORIAN
METHOD:PUBLISH
UID:a6fbc905-6102-4b2f-9910-a19c3867acd6
X-WR-CALDESC:The North Edmonton Seniors Association is excited to announce 
 that it is having another fundraiser this summer! Join us for a book\, puz
 zle and jewelry sale on Wednesday\, August 11 to Saturday\, August 14 from
  9:00am-3:00pm and browse through our wide selection of items!\n\nAddition
 ally\, our fundraising clubs\, the Pins and Needles and the Wizards of Odd
 s 'n Ends will be selling their one of a kind items throughout the week to
 o - we hope you will be able to join us and check out these amazing creati
 ons!\n\nEMMA Catering will be serving coffee\, light refreshments and lunc
 h too so be sure to come on by and say hello!
X-WR-RELCALID:10130983a7e46c4b5e10ff23fbca5ffc
X-WR-TIMEZONE:America/Denver
BEGIN:VTIMEZONE
TZID:America/Denver
BEGIN:STANDARD
TZNAME:MST
DTSTART:20201101T020000
TZOFFSETFROM:-0600
TZOFFSETTO:-0700
RDATE:20211107T020000
RDATE:20221106T020000
END:STANDARD
BEGIN:DAYLIGHT
TZNAME:MDT
DTSTART:20210314T020000
TZOFFSETFROM:-0700
TZOFFSETTO:-0600
RDATE:20220313T020000
END:DAYLIGHT
END:VTIMEZONE
BEGIN:VEVENT
UID:6cad3f10-8496-46c0-b8a0-b13d336f3bb5
DTSTAMP:20260423T184646Z
DESCRIPTION:The North Edmonton Seniors Association is excited to announce t
 hat it is having another fundraiser this summer! Join us for a book\, puzz
 le and jewelry sale on Wednesday\, August 11 to Saturday\, August 14 from 
 9:00am-3:00pm and browse through our wide selection of items!\n\nAdditiona
 lly\, our fundraising clubs\, the Pins and Needles and the Wizards of Odds
  'n Ends will be selling their one of a kind items throughout the week too
  - we hope you will be able to join us and check out these amazing creatio
 ns!\n\nEMMA Catering will be serving coffee\, light refreshments and lunch
  too so be sure to come on by and say hello!
DTSTART;TZID=America/Denver:20210811T090000
DTEND;TZID=America/Denver:20210814T150000
LOCATION:7524-139 Avenue
SUMMARY:NESA's Summer Fundraiser
END:VEVENT
END:VCALENDAR
