BEGIN:VCALENDAR
VERSION:2.0
PRODID:-//nesa1.ca//NONSGML kigkonsult.se iCalcreator 2.30.10//
CALSCALE:GREGORIAN
METHOD:PUBLISH
UID:8c7dec14-9fd6-4233-888f-984fcd13190c
X-WR-CALDESC:Want to stock up on some delicious meats and treats from the i
 nfamous Widynowski's Sausage House? Download a meat order form by clicking
  the link below and once you decide on what you would like\, come on by du
 ring our business hours and we would be happy to help you submit your orde
 r. This is a sale you don't want to miss! Sales are ongoing until December
  3\, 2021 and orders will be available to pick up on December 15\, 2021. T
 hank you for supporting our seniors recreation centre's fundraiser!
X-WR-RELCALID:7b4ce66706e9c56431bc3c3787328206
X-WR-TIMEZONE:America/Denver
BEGIN:VTIMEZONE
TZID:America/Denver
BEGIN:STANDARD
TZNAME:MST
DTSTART:20201101T020000
TZOFFSETFROM:-0600
TZOFFSETTO:-0700
RDATE:20211107T020000
RDATE:20221106T020000
END:STANDARD
BEGIN:DAYLIGHT
TZNAME:MDT
DTSTART:20210314T020000
TZOFFSETFROM:-0700
TZOFFSETTO:-0600
RDATE:20220313T020000
RDATE:20230312T020000
END:DAYLIGHT
END:VTIMEZONE
BEGIN:VEVENT
UID:9c6ee948-7fd1-4110-a993-e1a0e4c4431b
DTSTAMP:20260421T154717Z
DESCRIPTION:Want to stock up on some delicious meats and treats from the in
 famous Widynowski's Sausage House? Download a meat order form by clicking 
 the link below and once you decide on what you would like\, come on by dur
 ing our business hours and we would be happy to help you submit your order
 . This is a sale you don't want to miss! Sales are ongoing until December 
 3\, 2021 and orders will be available to pick up on December 15\, 2021. Th
 ank you for supporting our seniors recreation centre's fundraiser!
DTSTART;TZID=America/Denver:20210917T083000
DTEND;TZID=America/Denver:20211203T160000
LOCATION:
SUMMARY:Widynowski's Meat Sale Fundraiser
END:VEVENT
END:VCALENDAR
