BEGIN:VCALENDAR
VERSION:2.0
PRODID:-//nesa1.ca//NONSGML kigkonsult.se iCalcreator 2.30.10//
CALSCALE:GREGORIAN
METHOD:PUBLISH
UID:5d8b8ea5-0d57-47e7-94f0-5c62fee7918f
X-WR-CALDESC:NESA is excited to present another online 50/50 raffle and fun
 draiser - one lucky person could win up to $2500! Visit https://www.raffle
 box.ca/raffle/nesa to buy your tickets today for your chance to win and th
 ank you for supporting our seniors recreation centre!!\n\n
X-WR-RELCALID:f950b4698eb6626a6cf275b566df5d69
X-WR-TIMEZONE:America/Denver
BEGIN:VTIMEZONE
TZID:America/Denver
BEGIN:STANDARD
TZNAME:MST
DTSTART:20211107T020000
TZOFFSETFROM:-0600
TZOFFSETTO:-0700
RDATE:20221106T020000
END:STANDARD
BEGIN:DAYLIGHT
TZNAME:MDT
DTSTART:20210314T020000
TZOFFSETFROM:-0700
TZOFFSETTO:-0600
RDATE:20220313T020000
RDATE:20230312T020000
END:DAYLIGHT
END:VTIMEZONE
BEGIN:VEVENT
UID:3014e8e8-61af-4d32-ac59-b62f768bccdd
DTSTAMP:20260422T073901Z
DESCRIPTION:NESA is excited to present another online 50/50 raffle and fund
 raiser - one lucky person could win up to $2500! Visit https://www.raffleb
 ox.ca/raffle/nesa to buy your tickets today for your chance to win and tha
 nk you for supporting our seniors recreation centre!!\n\n
DTSTART;TZID=America/Denver:20220110T073000
DTEND;TZID=America/Denver:20220629T235900
LOCATION:
SUMMARY:NESA's 50/50 Online Raffle
END:VEVENT
END:VCALENDAR
