BEGIN:VCALENDAR
VERSION:2.0
PRODID:-//nesa1.ca//NONSGML kigkonsult.se iCalcreator 2.30.10//
CALSCALE:GREGORIAN
METHOD:PUBLISH
UID:d1617536-3b61-4e4c-a7e0-e4b47ae27aa5
X-WR-CALDESC:The North Edmonton Seniors Association is excited to offer a l
 obby sale showcasing its very own Silversmithing  Club. The Silversmithing
  Club is made up of NESA Members who are very talented artisans who make b
 eautiful and unique pieces through meticulous processes\; they make their 
 own masterpieces and are all made with love (and all items are handmade!).
  Join us for this sale on Wednesday\, April 12\, 2023\, from 9:00 am-6:00 
 pm (during the book sale).\n\nThe Cherrydale Café will be open during regu
 lar hours during the sale so come on by for a great book sale and some del
 icious treats!\n\nPlease note that this is a cash-only event (we do have a
 n ATM on site!). We look forward to seeing you soon!
X-WR-RELCALID:026c9d35f421eee750ce39179a489ca9
X-WR-TIMEZONE:America/Denver
BEGIN:VTIMEZONE
TZID:America/Denver
BEGIN:STANDARD
TZNAME:MST
DTSTART:20221106T020000
TZOFFSETFROM:-0600
TZOFFSETTO:-0700
RDATE:20231105T020000
END:STANDARD
BEGIN:DAYLIGHT
TZNAME:MDT
DTSTART:20230312T020000
TZOFFSETFROM:-0700
TZOFFSETTO:-0600
RDATE:20240310T020000
END:DAYLIGHT
END:VTIMEZONE
BEGIN:VEVENT
UID:1d65a99c-30ad-4f90-af43-b4d24ef68f70
DTSTAMP:20260423T153630Z
DESCRIPTION:The North Edmonton Seniors Association is excited to offer a lo
 bby sale showcasing its very own Silversmithing  Club. The Silversmithing 
 Club is made up of NESA Members who are very talented artisans who make be
 autiful and unique pieces through meticulous processes\; they make their o
 wn masterpieces and are all made with love (and all items are handmade!). 
 Join us for this sale on Wednesday\, April 12\, 2023\, from 9:00 am-6:00 p
 m (during the book sale).\n\nThe Cherrydale Café will be open during regul
 ar hours during the sale so come on by for a great book sale and some deli
 cious treats!\n\nPlease note that this is a cash-only event (we do have an
  ATM on site!). We look forward to seeing you soon!
DTSTART;TZID=America/Denver:20230412T090000
DTEND;TZID=America/Denver:20230412T180000
LOCATION:7524-139 Avenue
SUMMARY:Silversmithing Club Sale
END:VEVENT
END:VCALENDAR
