BEGIN:VCALENDAR
VERSION:2.0
PRODID:-//nesa1.ca//NONSGML kigkonsult.se iCalcreator 2.30.10//
CALSCALE:GREGORIAN
METHOD:PUBLISH
UID:26ed18f3-3599-424f-9ff1-f6700243e865
X-WR-CALDESC:
X-WR-RELCALID:4842b9b1cca22f64de8a11803db88845
X-WR-TIMEZONE:America/Denver
BEGIN:VTIMEZONE
TZID:America/Denver
BEGIN:STANDARD
TZNAME:MST
DTSTART:20231105T020000
TZOFFSETFROM:-0600
TZOFFSETTO:-0700
RDATE:20241103T020000
END:STANDARD
BEGIN:DAYLIGHT
TZNAME:MDT
DTSTART:20230312T020000
TZOFFSETFROM:-0700
TZOFFSETTO:-0600
RDATE:20240310T020000
RDATE:20250309T020000
END:DAYLIGHT
END:VTIMEZONE
BEGIN:VEVENT
UID:a2215beb-22a3-45f5-bc28-c030b1eae991
DTSTAMP:20260422T093414Z
DESCRIPTION:
DTSTART;TZID=America/Denver:20231219T090000
DTEND;TZID=America/Denver:20231220T150000
LOCATION:The McClure United Church - 13708 74 Street
SUMMARY:Book and Club Sale
END:VEVENT
END:VCALENDAR
