BEGIN:VCALENDAR
VERSION:2.0
PRODID:-//nesa1.ca//NONSGML kigkonsult.se iCalcreator 2.30.10//
CALSCALE:GREGORIAN
METHOD:PUBLISH
UID:c53dc986-603f-48df-8a69-59506030b70d
X-WR-CALDESC:
X-WR-RELCALID:0f37734bb91dd4850cbdbbd5cdf549f0
X-WR-TIMEZONE:America/Denver
BEGIN:VTIMEZONE
TZID:America/Denver
BEGIN:STANDARD
TZNAME:MST
DTSTART:20231105T020000
TZOFFSETFROM:-0600
TZOFFSETTO:-0700
RDATE:20241103T020000
END:STANDARD
BEGIN:DAYLIGHT
TZNAME:MDT
DTSTART:20240310T020000
TZOFFSETFROM:-0700
TZOFFSETTO:-0600
RDATE:20250309T020000
END:DAYLIGHT
END:VTIMEZONE
BEGIN:VEVENT
UID:2360ac32-95ac-4bd8-9cff-e73615dcc5fb
DTSTAMP:20260422T054233Z
DESCRIPTION:
DTSTART;TZID=America/Denver:20240325T083000
DTEND;TZID=America/Denver:20240424T160000
LOCATION:
SUMMARY:Kuhlmann's Greenhouse Fundraiser
END:VEVENT
END:VCALENDAR
