BEGIN:VCALENDAR
VERSION:2.0
PRODID:-//nesa1.ca//NONSGML kigkonsult.se iCalcreator 2.30.10//
CALSCALE:GREGORIAN
METHOD:PUBLISH
UID:01c82f5c-bd23-4c7a-bac2-48a69627901b
X-WR-CALDESC:
X-WR-RELCALID:91789dff045b899f51f706ea7110586e
X-WR-TIMEZONE:America/Denver
BEGIN:VTIMEZONE
TZID:America/Denver
BEGIN:STANDARD
TZNAME:MST
DTSTART:20231105T020000
TZOFFSETFROM:-0600
TZOFFSETTO:-0700
RDATE:20241103T020000
RDATE:20251102T020000
END:STANDARD
BEGIN:DAYLIGHT
TZNAME:MDT
DTSTART:20240310T020000
TZOFFSETFROM:-0700
TZOFFSETTO:-0600
RDATE:20250309T020000
END:DAYLIGHT
END:VTIMEZONE
BEGIN:VEVENT
UID:4a3173d9-bddf-4765-8254-029b3c9a0ac2
DTSTAMP:20260422T114202Z
DESCRIPTION:
DTSTART;TZID=America/Denver:20240506T090000
DTEND;TZID=America/Denver:20240506T150000
LOCATION:McClure United Church (13708 74 Street)
SUMMARY:NESA's Lil' Book Sale
END:VEVENT
END:VCALENDAR
