BEGIN:VCALENDAR
VERSION:2.0
PRODID:-//nesa1.ca//NONSGML kigkonsult.se iCalcreator 2.30.10//
CALSCALE:GREGORIAN
METHOD:PUBLISH
UID:3a484270-4ca2-48a0-90ec-88e5cd73603e
X-WR-CALDESC:
X-WR-RELCALID:447a2bf55223f47dd4f47642d6eb79b7
X-WR-TIMEZONE:America/Denver
BEGIN:VTIMEZONE
TZID:America/Denver
BEGIN:STANDARD
TZNAME:MST
DTSTART:20241103T020000
TZOFFSETFROM:-0600
TZOFFSETTO:-0700
RDATE:20251102T020000
END:STANDARD
BEGIN:DAYLIGHT
TZNAME:MDT
DTSTART:20240310T020000
TZOFFSETFROM:-0700
TZOFFSETTO:-0600
RDATE:20250309T020000
RDATE:20260308T020000
END:DAYLIGHT
END:VTIMEZONE
BEGIN:VEVENT
UID:ea976ad6-26bc-4ecb-adf7-94a5d2a0df78
DTSTAMP:20260423T170416Z
DESCRIPTION:
DTSTART;TZID=America/Denver:20241205T101500
DTEND;TZID=America/Denver:20241205T110000
LOCATION:7524 139 Avenue
SUMMARY:NESA Handbell Choir Concert
END:VEVENT
END:VCALENDAR
