BEGIN:VCALENDAR
VERSION:2.0
PRODID:-//nesa1.ca//NONSGML kigkonsult.se iCalcreator 2.30.10//
CALSCALE:GREGORIAN
METHOD:PUBLISH
UID:df99db55-ed80-4b4e-a2fd-93b75f7e95e7
X-WR-CALDESC:
X-WR-RELCALID:9e3a2f343b9c6b8f339561b6da419f31
X-WR-TIMEZONE:America/Denver
BEGIN:VTIMEZONE
TZID:America/Denver
BEGIN:STANDARD
TZNAME:MST
DTSTART:20241103T020000
TZOFFSETFROM:-0600
TZOFFSETTO:-0700
RDATE:20251102T020000
END:STANDARD
BEGIN:DAYLIGHT
TZNAME:MDT
DTSTART:20240310T020000
TZOFFSETFROM:-0700
TZOFFSETTO:-0600
RDATE:20250309T020000
RDATE:20260308T020000
END:DAYLIGHT
END:VTIMEZONE
BEGIN:VEVENT
UID:40cd4c35-2963-437f-9b68-cc116f6aace1
DTSTAMP:20260422T060834Z
DESCRIPTION:
DTSTART;TZID=America/Denver:20250114T090000
DTEND;TZID=America/Denver:20250116T150000
LOCATION:7524 139 Avenue
SUMMARY:NESA Book Sale
END:VEVENT
END:VCALENDAR
