BEGIN:VCALENDAR
VERSION:2.0
PRODID:-//nesa1.ca//NONSGML kigkonsult.se iCalcreator 2.30.10//
CALSCALE:GREGORIAN
METHOD:PUBLISH
UID:f9b191e0-3014-4995-8ead-de42b720609b
X-WR-CALDESC:
X-WR-RELCALID:aa99df7e0d22fee50e94c69a20341be0
X-WR-TIMEZONE:America/Denver
BEGIN:VTIMEZONE
TZID:America/Denver
BEGIN:STANDARD
TZNAME:MST
DTSTART:20241103T020000
TZOFFSETFROM:-0600
TZOFFSETTO:-0700
RDATE:20251102T020000
END:STANDARD
BEGIN:DAYLIGHT
TZNAME:MDT
DTSTART:20240310T020000
TZOFFSETFROM:-0700
TZOFFSETTO:-0600
RDATE:20250309T020000
RDATE:20260308T020000
END:DAYLIGHT
END:VTIMEZONE
BEGIN:VEVENT
UID:c5f99530-51cd-412d-809f-e2562b4aba43
DTSTAMP:20260423T150337Z
DESCRIPTION:
DTSTART;TZID=America/Denver:20250117T120000
DTEND;TZID=America/Denver:20250117T140000
LOCATION:Northgate Lions Recreation Centre (7524 139 Avenue)
SUMMARY:AHA It's Finally Done! Renovation Completion Celebration Event!
END:VEVENT
END:VCALENDAR
