BEGIN:VCALENDAR
VERSION:2.0
PRODID:-//nesa1.ca//NONSGML kigkonsult.se iCalcreator 2.30.10//
CALSCALE:GREGORIAN
METHOD:PUBLISH
UID:85f8400a-f5ca-4bb6-a19c-ad9e153427d2
X-WR-CALDESC:
X-WR-RELCALID:26d550a22c24c6a8be8ceef0b1c39dbe
X-WR-TIMEZONE:America/Denver
BEGIN:VTIMEZONE
TZID:America/Denver
BEGIN:STANDARD
TZNAME:MST
DTSTART:20241103T020000
TZOFFSETFROM:-0600
TZOFFSETTO:-0700
RDATE:20251102T020000
END:STANDARD
BEGIN:DAYLIGHT
TZNAME:MDT
DTSTART:20240310T020000
TZOFFSETFROM:-0700
TZOFFSETTO:-0600
RDATE:20250309T020000
RDATE:20260308T020000
END:DAYLIGHT
END:VTIMEZONE
BEGIN:VEVENT
UID:db3a4a8d-580a-4e64-aed9-d3aba907bb5d
DTSTAMP:20260423T125821Z
DESCRIPTION:
DTSTART;TZID=America/Denver:20250205T083000
DTEND;TZID=America/Denver:20250205T120000
LOCATION:7524 139 Avenue
SUMMARY:Bottle Drive and Fundraiser at NESA
END:VEVENT
END:VCALENDAR
