BEGIN:VCALENDAR
VERSION:2.0
PRODID:-//nesa1.ca//NONSGML kigkonsult.se iCalcreator 2.30.10//
CALSCALE:GREGORIAN
METHOD:PUBLISH
UID:eb14e8cf-1d23-43b0-b087-46a067061d38
X-WR-CALDESC:
X-WR-RELCALID:5b66d30e3964f21746663b33b86b7b0c
X-WR-TIMEZONE:America/Denver
BEGIN:VTIMEZONE
TZID:America/Denver
BEGIN:STANDARD
TZNAME:MST
DTSTART:20241103T020000
TZOFFSETFROM:-0600
TZOFFSETTO:-0700
RDATE:20251102T020000
END:STANDARD
BEGIN:DAYLIGHT
TZNAME:MDT
DTSTART:20240310T020000
TZOFFSETFROM:-0700
TZOFFSETTO:-0600
RDATE:20250309T020000
RDATE:20260308T020000
END:DAYLIGHT
END:VTIMEZONE
BEGIN:VEVENT
UID:a2b3ce96-f1ed-4a7c-bcfe-be937e650664
DTSTAMP:20260423T125252Z
DESCRIPTION:
DTSTART;TZID=America/Denver:20250214T140000
DTEND;TZID=America/Denver:20250214T160000
LOCATION:7524 139 Avenue
SUMMARY:Valentine's Day Tea
END:VEVENT
END:VCALENDAR
