BEGIN:VCALENDAR
VERSION:2.0
PRODID:-//nesa1.ca//NONSGML kigkonsult.se iCalcreator 2.30.10//
CALSCALE:GREGORIAN
METHOD:PUBLISH
UID:5ee8d5ac-875d-409e-a9e4-ea291d6545ef
X-WR-CALDESC:
X-WR-RELCALID:9f6c0824551ed85da369d95283ef18ab
X-WR-TIMEZONE:America/Denver
BEGIN:VTIMEZONE
TZID:America/Denver
BEGIN:STANDARD
TZNAME:MST
DTSTART:20241103T020000
TZOFFSETFROM:-0600
TZOFFSETTO:-0700
RDATE:20251102T020000
END:STANDARD
BEGIN:DAYLIGHT
TZNAME:MDT
DTSTART:20240310T020000
TZOFFSETFROM:-0700
TZOFFSETTO:-0600
RDATE:20250309T020000
RDATE:20260308T020000
END:DAYLIGHT
END:VTIMEZONE
BEGIN:VEVENT
UID:18a0c1d6-d29b-4fda-926e-4d6be6f6bf57
DTSTAMP:20260422T183424Z
DESCRIPTION:
DTSTART;TZID=America/Denver:20250214T110000
DTEND;TZID=America/Denver:20250214T160000
LOCATION:7524 139 Avenue
SUMMARY:Wizards of Odds 'n Ends Lobby Sale
END:VEVENT
END:VCALENDAR
