BEGIN:VCALENDAR
VERSION:2.0
PRODID:-//nesa1.ca//NONSGML kigkonsult.se iCalcreator 2.30.10//
CALSCALE:GREGORIAN
METHOD:PUBLISH
UID:e536004f-0190-4d4f-a5e1-ee1c52aba1f2
X-WR-CALDESC:
X-WR-RELCALID:1b479225ebcdd6eb19baa9e556dfebe9
X-WR-TIMEZONE:America/Denver
BEGIN:VTIMEZONE
TZID:America/Denver
BEGIN:STANDARD
TZNAME:MST
DTSTART:20241103T020000
TZOFFSETFROM:-0600
TZOFFSETTO:-0700
RDATE:20251102T020000
END:STANDARD
BEGIN:DAYLIGHT
TZNAME:MDT
DTSTART:20240310T020000
TZOFFSETFROM:-0700
TZOFFSETTO:-0600
RDATE:20250309T020000
RDATE:20260308T020000
END:DAYLIGHT
END:VTIMEZONE
BEGIN:VEVENT
UID:528609f5-df54-4c34-8d8f-a9f67877e59d
DTSTAMP:20260423T091310Z
DESCRIPTION:
DTSTART;TZID=America/Denver:20250226T040000
DTEND;TZID=America/Denver:20250423T040001
LOCATION:7524 139 Avenue
SUMMARY:Kuhlmann's Greenhouse Gift Card Fundraiser
END:VEVENT
END:VCALENDAR
