BEGIN:VCALENDAR
VERSION:2.0
PRODID:-//nesa1.ca//NONSGML kigkonsult.se iCalcreator 2.30.10//
CALSCALE:GREGORIAN
METHOD:PUBLISH
UID:55262d48-2f6f-4c7b-a252-66d671868e01
X-WR-CALDESC:
X-WR-RELCALID:a3e3c4a53c4590a42e63b4dbe89449fe
X-WR-TIMEZONE:America/Denver
BEGIN:VTIMEZONE
TZID:America/Denver
BEGIN:STANDARD
TZNAME:MST
DTSTART:20241103T020000
TZOFFSETFROM:-0600
TZOFFSETTO:-0700
RDATE:20251102T020000
END:STANDARD
BEGIN:DAYLIGHT
TZNAME:MDT
DTSTART:20240310T020000
TZOFFSETFROM:-0700
TZOFFSETTO:-0600
RDATE:20250309T020000
RDATE:20260308T020000
END:DAYLIGHT
END:VTIMEZONE
BEGIN:VEVENT
UID:bbe0e46b-0599-4529-8522-50419c94054b
DTSTAMP:20260423T103101Z
DESCRIPTION:
DTSTART;TZID=America/Denver:20250305T083000
DTEND;TZID=America/Denver:20250305T120000
LOCATION:7524 139 Avenue
SUMMARY:Bottle Drive and Fundraiser at NESA
END:VEVENT
END:VCALENDAR
