BEGIN:VCALENDAR
VERSION:2.0
PRODID:-//nesa1.ca//NONSGML kigkonsult.se iCalcreator 2.30.10//
CALSCALE:GREGORIAN
METHOD:PUBLISH
UID:1250c892-65ef-46af-a868-d64c818a1109
X-WR-CALDESC:
X-WR-RELCALID:1aae8b422c056b720b5e8a4cbbd9c13f
X-WR-TIMEZONE:America/Denver
BEGIN:VTIMEZONE
TZID:America/Denver
BEGIN:STANDARD
TZNAME:MST
DTSTART:20241103T020000
TZOFFSETFROM:-0600
TZOFFSETTO:-0700
RDATE:20251102T020000
END:STANDARD
BEGIN:DAYLIGHT
TZNAME:MDT
DTSTART:20250309T020000
TZOFFSETFROM:-0700
TZOFFSETTO:-0600
RDATE:20260308T020000
END:DAYLIGHT
END:VTIMEZONE
BEGIN:VEVENT
UID:d9c6cb45-9ca9-44e6-ad53-42b5cda208ef
DTSTAMP:20260423T103050Z
DESCRIPTION:
DTSTART;TZID=America/Denver:20250314T140000
DTEND;TZID=America/Denver:20250314T160000
LOCATION:7524 139 Avenue
SUMMARY:St. Patrick's Day Event
END:VEVENT
END:VCALENDAR
