BEGIN:VCALENDAR
VERSION:2.0
PRODID:-//nesa1.ca//NONSGML kigkonsult.se iCalcreator 2.30.10//
CALSCALE:GREGORIAN
METHOD:PUBLISH
UID:bd4b6378-bf1f-44c6-8c68-865729694d29
X-WR-CALDESC:
X-WR-RELCALID:b4bf94a42d65ef24a4c0466a06ef1110
X-WR-TIMEZONE:America/Denver
BEGIN:VTIMEZONE
TZID:America/Denver
BEGIN:STANDARD
TZNAME:MST
DTSTART:20241103T020000
TZOFFSETFROM:-0600
TZOFFSETTO:-0700
RDATE:20251102T020000
END:STANDARD
BEGIN:DAYLIGHT
TZNAME:MDT
DTSTART:20250309T020000
TZOFFSETFROM:-0700
TZOFFSETTO:-0600
RDATE:20260308T020000
END:DAYLIGHT
END:VTIMEZONE
BEGIN:VEVENT
UID:df041515-24c0-44ba-a18a-324212c985c2
DTSTAMP:20260423T091310Z
DESCRIPTION:
DTSTART;TZID=America/Denver:20250409T090000
DTEND;TZID=America/Denver:20250411T150000
LOCATION:7524 139 Avenue
SUMMARY:NESA Book Sale
END:VEVENT
END:VCALENDAR
