BEGIN:VCALENDAR
VERSION:2.0
PRODID:-//nesa1.ca//NONSGML kigkonsult.se iCalcreator 2.30.10//
CALSCALE:GREGORIAN
METHOD:PUBLISH
UID:62f4f49d-ccd6-45e1-b7d8-5f535566e4b0
X-WR-CALDESC:
X-WR-RELCALID:b05cf83cbb6038abfb0e981eeb75c2bc
X-WR-TIMEZONE:America/Denver
BEGIN:VTIMEZONE
TZID:America/Denver
BEGIN:STANDARD
TZNAME:MST
DTSTART:20241103T020000
TZOFFSETFROM:-0600
TZOFFSETTO:-0700
RDATE:20251102T020000
RDATE:20261101T020000
END:STANDARD
BEGIN:DAYLIGHT
TZNAME:MDT
DTSTART:20250309T020000
TZOFFSETFROM:-0700
TZOFFSETTO:-0600
RDATE:20260308T020000
END:DAYLIGHT
END:VTIMEZONE
BEGIN:VEVENT
UID:d4d3b672-ed3f-41cb-b755-d8c56003bb1a
DTSTAMP:20260421T073032Z
DESCRIPTION:
DTSTART;TZID=America/Denver:20250507T083000
DTEND;TZID=America/Denver:20250507T120000
LOCATION:7524 139 Avenue
SUMMARY:Bottle Drive and Fundraiser at NESA
END:VEVENT
END:VCALENDAR
