BEGIN:VCALENDAR
VERSION:2.0
PRODID:-//nesa1.ca//NONSGML kigkonsult.se iCalcreator 2.30.10//
CALSCALE:GREGORIAN
METHOD:PUBLISH
UID:f584e87d-1c48-4bae-a505-6bd9b15ccc1c
X-WR-CALDESC:
X-WR-RELCALID:56f4f46c3686f2c62e73051cdb3de40a
X-WR-TIMEZONE:America/Denver
BEGIN:VTIMEZONE
TZID:America/Denver
BEGIN:STANDARD
TZNAME:MST
DTSTART:20241103T020000
TZOFFSETFROM:-0600
TZOFFSETTO:-0700
RDATE:20251102T020000
RDATE:20261101T020000
END:STANDARD
BEGIN:DAYLIGHT
TZNAME:MDT
DTSTART:20250309T020000
TZOFFSETFROM:-0700
TZOFFSETTO:-0600
RDATE:20260308T020000
END:DAYLIGHT
END:VTIMEZONE
BEGIN:VEVENT
UID:8b809e09-1ebb-4270-8fd2-755d6ec7d796
DTSTAMP:20260421T073145Z
DESCRIPTION:
DTSTART;TZID=America/Denver:20250509T130000
DTEND;TZID=America/Denver:20250509T150000
LOCATION:7524 139 Avenue
SUMMARY:Live Music Open Mic
END:VEVENT
END:VCALENDAR
