BEGIN:VCALENDAR
VERSION:2.0
PRODID:-//nesa1.ca//NONSGML kigkonsult.se iCalcreator 2.30.10//
CALSCALE:GREGORIAN
METHOD:PUBLISH
UID:9b74978d-4e9c-43a4-9380-2af31647f73f
X-WR-CALDESC:
X-WR-RELCALID:93b952a22bac84d95fc907b4741c2cf9
X-WR-TIMEZONE:America/Denver
BEGIN:VTIMEZONE
TZID:America/Denver
BEGIN:STANDARD
TZNAME:MST
DTSTART:20241103T020000
TZOFFSETFROM:-0600
TZOFFSETTO:-0700
RDATE:20251102T020000
RDATE:20261101T020000
END:STANDARD
BEGIN:DAYLIGHT
TZNAME:MDT
DTSTART:20250309T020000
TZOFFSETFROM:-0700
TZOFFSETTO:-0600
RDATE:20260308T020000
END:DAYLIGHT
END:VTIMEZONE
BEGIN:VEVENT
UID:53031ab8-c540-4ab2-8958-e9a3bae7b2fd
DTSTAMP:20260421T071246Z
DESCRIPTION:
DTSTART;TZID=America/Denver:20250530T170000
DTEND;TZID=America/Denver:20250530T200000
LOCATION:7524 139 Avenue
SUMMARY:Masquerade Ball in Venice
END:VEVENT
END:VCALENDAR
