BEGIN:VCALENDAR
VERSION:2.0
PRODID:-//nesa1.ca//NONSGML kigkonsult.se iCalcreator 2.30.10//
CALSCALE:GREGORIAN
METHOD:PUBLISH
UID:75c8ae77-b1dd-454a-a991-05c56f60b6e7
X-WR-CALDESC:
X-WR-RELCALID:deaddd10a415c5e322ca304da24c1cee
X-WR-TIMEZONE:America/Denver
BEGIN:VTIMEZONE
TZID:America/Denver
BEGIN:STANDARD
TZNAME:MST
DTSTART:20241103T020000
TZOFFSETFROM:-0600
TZOFFSETTO:-0700
RDATE:20251102T020000
RDATE:20261101T020000
END:STANDARD
BEGIN:DAYLIGHT
TZNAME:MDT
DTSTART:20250309T020000
TZOFFSETFROM:-0700
TZOFFSETTO:-0600
RDATE:20260308T020000
END:DAYLIGHT
END:VTIMEZONE
BEGIN:VEVENT
UID:79ceff7b-f3e5-4c7f-b67f-6ea86b6464ad
DTSTAMP:20260421T051951Z
DESCRIPTION:
DTSTART;TZID=America/Denver:20250613T130000
DTEND;TZID=America/Denver:20250613T150000
LOCATION:7524 139 Avenue
SUMMARY:Live Music Open Mic
END:VEVENT
END:VCALENDAR
