BEGIN:VCALENDAR
VERSION:2.0
PRODID:-//nesa1.ca//NONSGML kigkonsult.se iCalcreator 2.30.10//
CALSCALE:GREGORIAN
METHOD:PUBLISH
UID:57b65a83-382c-4dd2-b93e-ebacaf160b59
X-WR-CALDESC:
X-WR-RELCALID:49baba00329ae809c5c456f8acdb694f
X-WR-TIMEZONE:America/Denver
BEGIN:VTIMEZONE
TZID:America/Denver
BEGIN:STANDARD
TZNAME:MST
DTSTART:20241103T020000
TZOFFSETFROM:-0600
TZOFFSETTO:-0700
RDATE:20251102T020000
RDATE:20261101T020000
END:STANDARD
BEGIN:DAYLIGHT
TZNAME:MDT
DTSTART:20250309T020000
TZOFFSETFROM:-0700
TZOFFSETTO:-0600
RDATE:20260308T020000
END:DAYLIGHT
END:VTIMEZONE
BEGIN:VEVENT
UID:b253ef4a-f2f4-4481-9936-18cc2d370bbc
DTSTAMP:20260421T032400Z
DESCRIPTION:
DTSTART;TZID=America/Denver:20250702T083000
DTEND;TZID=America/Denver:20250702T120000
LOCATION:7524 139 Avenue
SUMMARY:Bottle Drive and Fundraiser at NESA
END:VEVENT
END:VCALENDAR
