BEGIN:VCALENDAR
VERSION:2.0
PRODID:-//nesa1.ca//NONSGML kigkonsult.se iCalcreator 2.30.10//
CALSCALE:GREGORIAN
METHOD:PUBLISH
UID:36c8c053-909f-4853-8bad-2a1b6c626874
X-WR-CALDESC:
X-WR-RELCALID:7840132d4783b2f67231bb698978d5ae
X-WR-TIMEZONE:America/Denver
BEGIN:VTIMEZONE
TZID:America/Denver
BEGIN:STANDARD
TZNAME:MST
DTSTART:20241103T020000
TZOFFSETFROM:-0600
TZOFFSETTO:-0700
RDATE:20251102T020000
RDATE:20261101T020000
END:STANDARD
BEGIN:DAYLIGHT
TZNAME:MDT
DTSTART:20250309T020000
TZOFFSETFROM:-0700
TZOFFSETTO:-0600
RDATE:20260308T020000
END:DAYLIGHT
END:VTIMEZONE
BEGIN:VEVENT
UID:0a094a0f-9a4a-4ffb-8ee6-0c0ea52a4551
DTSTAMP:20260421T013044Z
DESCRIPTION:
DTSTART;TZID=America/Denver:20250829T110000
DTEND;TZID=America/Denver:20250829T150000
LOCATION:7524 139 Avenue
SUMMARY:Bumpers\, Burgers & Bids
END:VEVENT
END:VCALENDAR
