BEGIN:VCALENDAR
VERSION:2.0
PRODID:-//nesa1.ca//NONSGML kigkonsult.se iCalcreator 2.30.10//
CALSCALE:GREGORIAN
METHOD:PUBLISH
UID:64e3b215-4633-48f1-9058-55f36e9f8a6b
X-WR-CALDESC:
X-WR-RELCALID:fa70a3a3bb9f74471b964d89f9e0ae18
X-WR-TIMEZONE:America/Denver
BEGIN:VTIMEZONE
TZID:America/Denver
BEGIN:STANDARD
TZNAME:MST
DTSTART:20241103T020000
TZOFFSETFROM:-0600
TZOFFSETTO:-0700
RDATE:20251102T020000
RDATE:20261101T020000
END:STANDARD
BEGIN:DAYLIGHT
TZNAME:MDT
DTSTART:20250309T020000
TZOFFSETFROM:-0700
TZOFFSETTO:-0600
RDATE:20260308T020000
END:DAYLIGHT
END:VTIMEZONE
BEGIN:VEVENT
UID:ba7016cc-84f6-48eb-a25a-edbc4a116756
DTSTAMP:20260420T231629Z
DESCRIPTION:
DTSTART;TZID=America/Denver:20250903T083000
DTEND;TZID=America/Denver:20250903T120000
LOCATION:7524 139 Avenue
SUMMARY:NESA's Bottle Drive
END:VEVENT
END:VCALENDAR
