BEGIN:VCALENDAR
VERSION:2.0
PRODID:-//nesa1.ca//NONSGML kigkonsult.se iCalcreator 2.30.10//
CALSCALE:GREGORIAN
METHOD:PUBLISH
UID:46168536-303c-41ef-9414-53abbdc3639d
X-WR-CALDESC:
X-WR-RELCALID:6a27ce29c24b8a41f6c9fe811ce13cb0
X-WR-TIMEZONE:America/Denver
BEGIN:VTIMEZONE
TZID:America/Denver
BEGIN:STANDARD
TZNAME:MST
DTSTART:20241103T020000
TZOFFSETFROM:-0600
TZOFFSETTO:-0700
RDATE:20251102T020000
RDATE:20261101T020000
END:STANDARD
BEGIN:DAYLIGHT
TZNAME:MDT
DTSTART:20250309T020000
TZOFFSETFROM:-0700
TZOFFSETTO:-0600
RDATE:20260308T020000
RDATE:20270314T020000
END:DAYLIGHT
END:VTIMEZONE
BEGIN:VEVENT
UID:6f9f8c7a-2200-4810-89ac-057ed8347a78
DTSTAMP:20260420T231455Z
DESCRIPTION:
DTSTART;TZID=America/Denver:20250917T100000
DTEND;TZID=America/Denver:20250917T150000
LOCATION:7524 139 Avenue
SUMMARY:Plant and Garden Sale
END:VEVENT
END:VCALENDAR
