BEGIN:VCALENDAR
VERSION:2.0
PRODID:-//nesa1.ca//NONSGML kigkonsult.se iCalcreator 2.30.10//
CALSCALE:GREGORIAN
METHOD:PUBLISH
UID:7e1123a3-d497-46f6-8f91-6b60ce999b19
X-WR-CALDESC:
X-WR-RELCALID:8f884b7471dcac61e31e92f38993fd32
X-WR-TIMEZONE:America/Denver
BEGIN:VTIMEZONE
TZID:America/Denver
BEGIN:STANDARD
TZNAME:MST
DTSTART:20241103T020000
TZOFFSETFROM:-0600
TZOFFSETTO:-0700
RDATE:20251102T020000
RDATE:20261101T020000
END:STANDARD
BEGIN:DAYLIGHT
TZNAME:MDT
DTSTART:20250309T020000
TZOFFSETFROM:-0700
TZOFFSETTO:-0600
RDATE:20260308T020000
RDATE:20270314T020000
END:DAYLIGHT
END:VTIMEZONE
BEGIN:VEVENT
UID:d248d33e-a271-4182-a6c5-edd10777f847
DTSTAMP:20260420T232501Z
DESCRIPTION:
DTSTART;TZID=America/Denver:20250926T130000
DTEND;TZID=America/Denver:20250926T150000
LOCATION:7524 139 Avenue
SUMMARY:Live Music Open Mic
END:VEVENT
END:VCALENDAR
