BEGIN:VCALENDAR
VERSION:2.0
PRODID:-//nesa1.ca//NONSGML kigkonsult.se iCalcreator 2.30.10//
CALSCALE:GREGORIAN
METHOD:PUBLISH
UID:f4eede51-7c18-4c13-8603-e25bf2edbe3f
X-WR-CALDESC:
X-WR-RELCALID:4c78eda0a31066223a9fd665208ec676
X-WR-TIMEZONE:America/Denver
BEGIN:VTIMEZONE
TZID:America/Denver
BEGIN:STANDARD
TZNAME:MST
DTSTART:20241103T020000
TZOFFSETFROM:-0600
TZOFFSETTO:-0700
RDATE:20251102T020000
RDATE:20261101T020000
END:STANDARD
BEGIN:DAYLIGHT
TZNAME:MDT
DTSTART:20250309T020000
TZOFFSETFROM:-0700
TZOFFSETTO:-0600
RDATE:20260308T020000
RDATE:20270314T020000
END:DAYLIGHT
END:VTIMEZONE
BEGIN:VEVENT
UID:fb5c5992-09fb-4d38-89cf-4e59eb8633cc
DTSTAMP:20260420T212226Z
DESCRIPTION:
DTSTART;TZID=America/Denver:20251003T190000
DTEND;TZID=America/Denver:20251003T220000
LOCATION:7524 139 Avenue
SUMMARY:Tribute to the '70s Dance Night: Featuring the Electric Company Ban
 d
END:VEVENT
END:VCALENDAR
