BEGIN:VCALENDAR
VERSION:2.0
PRODID:-//nesa1.ca//NONSGML kigkonsult.se iCalcreator 2.30.10//
CALSCALE:GREGORIAN
METHOD:PUBLISH
UID:4f7188b2-c159-44a4-9409-3f2cecdc3a07
X-WR-CALDESC:
X-WR-RELCALID:88eada6ef38b2aef170b84e48901b944
X-WR-TIMEZONE:America/Denver
BEGIN:VTIMEZONE
TZID:America/Denver
BEGIN:STANDARD
TZNAME:MST
DTSTART:20241103T020000
TZOFFSETFROM:-0600
TZOFFSETTO:-0700
RDATE:20251102T020000
RDATE:20261101T020000
END:STANDARD
BEGIN:DAYLIGHT
TZNAME:MDT
DTSTART:20250309T020000
TZOFFSETFROM:-0700
TZOFFSETTO:-0600
RDATE:20260308T020000
RDATE:20270314T020000
END:DAYLIGHT
END:VTIMEZONE
BEGIN:VEVENT
UID:8e60f84c-303a-4b59-b1a7-1bbf274be0eb
DTSTAMP:20260420T194005Z
DESCRIPTION:
DTSTART;TZID=America/Denver:20251008T040000
DTEND;TZID=America/Denver:20251128T040001
LOCATION:7524 139 Avenue
SUMMARY:Widynowski's Fundraising Sale
END:VEVENT
END:VCALENDAR
