BEGIN:VCALENDAR
VERSION:2.0
PRODID:-//nesa1.ca//NONSGML kigkonsult.se iCalcreator 2.30.10//
CALSCALE:GREGORIAN
METHOD:PUBLISH
UID:5d67ab91-a7d3-4cba-9e28-a378ac2938cc
X-WR-CALDESC:
X-WR-RELCALID:faec723ad6a5eb1a9fe8403b3fb46a6f
X-WR-TIMEZONE:America/Denver
BEGIN:VTIMEZONE
TZID:America/Denver
BEGIN:STANDARD
TZNAME:MST
DTSTART:20241103T020000
TZOFFSETFROM:-0600
TZOFFSETTO:-0700
RDATE:20251102T020000
RDATE:20261101T020000
END:STANDARD
BEGIN:DAYLIGHT
TZNAME:MDT
DTSTART:20250309T020000
TZOFFSETFROM:-0700
TZOFFSETTO:-0600
RDATE:20260308T020000
RDATE:20270314T020000
END:DAYLIGHT
END:VTIMEZONE
BEGIN:VEVENT
UID:c09a6f56-6378-4e0c-a1d4-aad71a2f970d
DTSTAMP:20260420T212113Z
DESCRIPTION:
DTSTART;TZID=America/Denver:20251024T170000
DTEND;TZID=America/Denver:20251024T210000
LOCATION:7524 139 Avenue
SUMMARY:Bad Moon Rising: The CCR Experience
END:VEVENT
END:VCALENDAR
