BEGIN:VCALENDAR
VERSION:2.0
PRODID:-//nesa1.ca//NONSGML kigkonsult.se iCalcreator 2.30.10//
CALSCALE:GREGORIAN
METHOD:PUBLISH
UID:12c83a63-643e-470a-8983-179d3db29f6b
X-WR-CALDESC:
X-WR-RELCALID:bb84b2cae72057226a6a33d26d9ba495
X-WR-TIMEZONE:America/Denver
BEGIN:VTIMEZONE
TZID:America/Denver
BEGIN:STANDARD
TZNAME:MST
DTSTART:20251102T020000
TZOFFSETFROM:-0600
TZOFFSETTO:-0700
RDATE:20261101T020000
END:STANDARD
BEGIN:DAYLIGHT
TZNAME:MDT
DTSTART:20250309T020000
TZOFFSETFROM:-0700
TZOFFSETTO:-0600
RDATE:20260308T020000
RDATE:20270314T020000
END:DAYLIGHT
END:VTIMEZONE
BEGIN:VEVENT
UID:3f2784c0-11cb-4f3e-9154-0bfb84b3ca53
DTSTAMP:20260420T193538Z
DESCRIPTION:
DTSTART;TZID=America/Denver:20251105T083000
DTEND;TZID=America/Denver:20251105T120000
LOCATION:7524 139 Avenue
SUMMARY:NESA's Bottle Drive
END:VEVENT
END:VCALENDAR
