BEGIN:VCALENDAR
VERSION:2.0
PRODID:-//nesa1.ca//NONSGML kigkonsult.se iCalcreator 2.30.10//
CALSCALE:GREGORIAN
METHOD:PUBLISH
UID:23186a07-343f-43b9-b82a-7956947fd6a5
X-WR-CALDESC:
X-WR-RELCALID:c96ed55617f52350755c4b24f843276a
X-WR-TIMEZONE:America/Denver
BEGIN:VTIMEZONE
TZID:America/Denver
BEGIN:STANDARD
TZNAME:MST
DTSTART:20251102T020000
TZOFFSETFROM:-0600
TZOFFSETTO:-0700
RDATE:20261101T020000
END:STANDARD
BEGIN:DAYLIGHT
TZNAME:MDT
DTSTART:20250309T020000
TZOFFSETFROM:-0700
TZOFFSETTO:-0600
RDATE:20260308T020000
RDATE:20270314T020000
END:DAYLIGHT
END:VTIMEZONE
BEGIN:VEVENT
UID:c4c6c934-95b0-458b-8f6b-7637d0cfef7f
DTSTAMP:20260420T194602Z
DESCRIPTION:
DTSTART;TZID=America/Denver:20251107T140000
DTEND;TZID=America/Denver:20251107T160000
LOCATION:7524 139 Avenue
SUMMARY:Remembrance Day Tribute Tea and Dessert
END:VEVENT
END:VCALENDAR
