BEGIN:VCALENDAR
VERSION:2.0
PRODID:-//nesa1.ca//NONSGML kigkonsult.se iCalcreator 2.30.10//
CALSCALE:GREGORIAN
METHOD:PUBLISH
UID:2fcfcb41-c4cc-4820-aa8d-e5a60f904940
X-WR-CALDESC:
X-WR-RELCALID:eb7b5e683e81fa70388e3803c39ed836
X-WR-TIMEZONE:America/Denver
BEGIN:VTIMEZONE
TZID:America/Denver
BEGIN:STANDARD
TZNAME:MST
DTSTART:20251102T020000
TZOFFSETFROM:-0600
TZOFFSETTO:-0700
RDATE:20261101T020000
END:STANDARD
BEGIN:DAYLIGHT
TZNAME:MDT
DTSTART:20250309T020000
TZOFFSETFROM:-0700
TZOFFSETTO:-0600
RDATE:20260308T020000
RDATE:20270314T020000
END:DAYLIGHT
END:VTIMEZONE
BEGIN:VEVENT
UID:b61a5b90-ac8f-45c1-b073-c74dc29ddee4
DTSTAMP:20260420T194602Z
DESCRIPTION:
DTSTART;TZID=America/Denver:20251122T090000
DTEND;TZID=America/Denver:20251122T150000
LOCATION:7524 139 Avenue
SUMMARY:Holly Jolly Craft Show
END:VEVENT
END:VCALENDAR
