BEGIN:VCALENDAR
VERSION:2.0
PRODID:-//nesa1.ca//NONSGML kigkonsult.se iCalcreator 2.30.10//
CALSCALE:GREGORIAN
METHOD:PUBLISH
UID:0f5af70d-5ecd-4ef2-a7e0-854f599d1487
X-WR-CALDESC:
X-WR-RELCALID:5b4da376c9a9f97fd8e451f68d058cda
X-WR-TIMEZONE:America/Denver
BEGIN:VTIMEZONE
TZID:America/Denver
BEGIN:STANDARD
TZNAME:MST
DTSTART:20251102T020000
TZOFFSETFROM:-0600
TZOFFSETTO:-0700
RDATE:20261101T020000
END:STANDARD
BEGIN:DAYLIGHT
TZNAME:MDT
DTSTART:20250309T020000
TZOFFSETFROM:-0700
TZOFFSETTO:-0600
RDATE:20260308T020000
RDATE:20270314T020000
END:DAYLIGHT
END:VTIMEZONE
BEGIN:VEVENT
UID:021ee740-1fa3-4fa5-9897-b182d1e18524
DTSTAMP:20260420T173238Z
DESCRIPTION:
DTSTART;TZID=America/Denver:20251203T083000
DTEND;TZID=America/Denver:20251203T120000
LOCATION:7524 139 Avenue
SUMMARY:NESA's Bottle Drive
END:VEVENT
END:VCALENDAR
