BEGIN:VCALENDAR
VERSION:2.0
PRODID:-//nesa1.ca//NONSGML kigkonsult.se iCalcreator 2.30.10//
CALSCALE:GREGORIAN
METHOD:PUBLISH
UID:5c0b5357-14c5-4dce-9e87-54bc025808ae
X-WR-CALDESC:
X-WR-RELCALID:9c609d895ffdd48dbae23b882e4df750
X-WR-TIMEZONE:America/Denver
BEGIN:VTIMEZONE
TZID:America/Denver
BEGIN:STANDARD
TZNAME:MST
DTSTART:20251102T020000
TZOFFSETFROM:-0600
TZOFFSETTO:-0700
RDATE:20261101T020000
END:STANDARD
BEGIN:DAYLIGHT
TZNAME:MDT
DTSTART:20250309T020000
TZOFFSETFROM:-0700
TZOFFSETTO:-0600
RDATE:20260308T020000
RDATE:20270314T020000
END:DAYLIGHT
END:VTIMEZONE
BEGIN:VEVENT
UID:4d8e4550-e559-4df7-8d1c-836a35655777
DTSTAMP:20260420T174544Z
DESCRIPTION:
DTSTART;TZID=America/Denver:20251205T133000
DTEND;TZID=America/Denver:20251205T153000
LOCATION:7524 139 Avenue
SUMMARY:Christmas Concert: Featuring the Choralaires and Handbell Choir
END:VEVENT
END:VCALENDAR
