BEGIN:VCALENDAR
VERSION:2.0
PRODID:-//nesa1.ca//NONSGML kigkonsult.se iCalcreator 2.30.10//
CALSCALE:GREGORIAN
METHOD:PUBLISH
UID:a9617def-b112-453e-9fdd-73d597aece00
X-WR-CALDESC:
X-WR-RELCALID:ace3204613a9ad15ff27f85f2c87777d
X-WR-TIMEZONE:America/Denver
BEGIN:VTIMEZONE
TZID:America/Denver
BEGIN:STANDARD
TZNAME:MST
DTSTART:20251102T020000
TZOFFSETFROM:-0600
TZOFFSETTO:-0700
RDATE:20261101T020000
END:STANDARD
BEGIN:DAYLIGHT
TZNAME:MDT
DTSTART:20250309T020000
TZOFFSETFROM:-0700
TZOFFSETTO:-0600
RDATE:20260308T020000
RDATE:20270314T020000
END:DAYLIGHT
END:VTIMEZONE
BEGIN:VEVENT
UID:a59b5fbf-cfa2-4534-8d22-6acd339683cb
DTSTAMP:20260420T174206Z
DESCRIPTION:
DTSTART;TZID=America/Denver:20251217T090000
DTEND;TZID=America/Denver:20251220T150000
LOCATION:7524 139 Avenue
SUMMARY:Book Sale
END:VEVENT
END:VCALENDAR
