BEGIN:VCALENDAR
VERSION:2.0
PRODID:-//nesa1.ca//NONSGML kigkonsult.se iCalcreator 2.30.10//
CALSCALE:GREGORIAN
METHOD:PUBLISH
UID:c61b86dd-4b7b-4eab-93e2-f15501d7bbde
X-WR-CALDESC:
X-WR-RELCALID:3c8d9479a1e44aa337af1a6ccf08ad98
X-WR-TIMEZONE:America/Denver
BEGIN:VTIMEZONE
TZID:America/Denver
BEGIN:STANDARD
TZNAME:MST
DTSTART:20251102T020000
TZOFFSETFROM:-0600
TZOFFSETTO:-0700
RDATE:20261101T020000
END:STANDARD
BEGIN:DAYLIGHT
TZNAME:MDT
DTSTART:20250309T020000
TZOFFSETFROM:-0700
TZOFFSETTO:-0600
RDATE:20260308T020000
RDATE:20270314T020000
END:DAYLIGHT
END:VTIMEZONE
BEGIN:VEVENT
UID:6add0321-76c3-48a1-b8be-ed07df43077c
DTSTAMP:20260420T174343Z
DESCRIPTION:
DTSTART;TZID=America/Denver:20251217T090000
DTEND;TZID=America/Denver:20251220T150000
LOCATION:7524 139 Avenue
SUMMARY:Jewellery Sale
END:VEVENT
END:VCALENDAR
