BEGIN:VCALENDAR
VERSION:2.0
PRODID:-//nesa1.ca//NONSGML kigkonsult.se iCalcreator 2.30.10//
CALSCALE:GREGORIAN
METHOD:PUBLISH
UID:6505c3bd-b566-476d-9ce7-8fb5fe7a4230
X-WR-CALDESC:
X-WR-RELCALID:68c460838a9483ef0bf2762faf9d8314
X-WR-TIMEZONE:America/Denver
BEGIN:VTIMEZONE
TZID:America/Denver
BEGIN:STANDARD
TZNAME:MST
DTSTART:20251102T020000
TZOFFSETFROM:-0600
TZOFFSETTO:-0700
RDATE:20261101T020000
END:STANDARD
BEGIN:DAYLIGHT
TZNAME:MDT
DTSTART:20250309T020000
TZOFFSETFROM:-0700
TZOFFSETTO:-0600
RDATE:20260308T020000
RDATE:20270314T020000
END:DAYLIGHT
END:VTIMEZONE
BEGIN:VEVENT
UID:7cb34f19-a11c-4ea1-96bc-609ff76c65e0
DTSTAMP:20260420T132206Z
DESCRIPTION:
DTSTART;TZID=America/Denver:20260204T083000
DTEND;TZID=America/Denver:20260204T120000
LOCATION:7524 139 Avenue
SUMMARY:NESA's Bottle Drive
END:VEVENT
END:VCALENDAR
