BEGIN:VCALENDAR
VERSION:2.0
PRODID:-//nesa1.ca//NONSGML kigkonsult.se iCalcreator 2.30.10//
CALSCALE:GREGORIAN
METHOD:PUBLISH
UID:634216fa-ff6f-47b5-b157-8b5c7ec30a26
X-WR-CALDESC:
X-WR-RELCALID:e31c3b96dd3f25a9a16e727ea82843ba
X-WR-TIMEZONE:America/Denver
BEGIN:VTIMEZONE
TZID:America/Denver
BEGIN:STANDARD
TZNAME:MST
DTSTART:20251102T020000
TZOFFSETFROM:-0600
TZOFFSETTO:-0700
RDATE:20261101T020000
END:STANDARD
BEGIN:DAYLIGHT
TZNAME:MDT
DTSTART:20250309T020000
TZOFFSETFROM:-0700
TZOFFSETTO:-0600
RDATE:20260308T020000
RDATE:20270314T020000
END:DAYLIGHT
END:VTIMEZONE
BEGIN:VEVENT
UID:649c0246-e91f-462f-b23f-6782c8bb38c7
DTSTAMP:20260420T114537Z
DESCRIPTION:
DTSTART;TZID=America/Denver:20260306T130000
DTEND;TZID=America/Denver:20260306T150000
LOCATION:7524 139 Avenue
SUMMARY:Live Music Open Mic
END:VEVENT
END:VCALENDAR
