BEGIN:VCALENDAR
VERSION:2.0
PRODID:-//nesa1.ca//NONSGML kigkonsult.se iCalcreator 2.30.10//
CALSCALE:GREGORIAN
METHOD:PUBLISH
UID:3f8bdec4-f0ca-40bf-81cc-bf1b7d8e331c
X-WR-CALDESC:
X-WR-RELCALID:ebc21d2a32e554fb9aae38b9cf944a34
X-WR-TIMEZONE:America/Denver
BEGIN:VTIMEZONE
TZID:America/Denver
BEGIN:STANDARD
TZNAME:MST
DTSTART:20251102T020000
TZOFFSETFROM:-0600
TZOFFSETTO:-0700
RDATE:20261101T020000
END:STANDARD
BEGIN:DAYLIGHT
TZNAME:MDT
DTSTART:20260308T020000
TZOFFSETFROM:-0700
TZOFFSETTO:-0600
RDATE:20270314T020000
END:DAYLIGHT
END:VTIMEZONE
BEGIN:VEVENT
UID:a0b42237-c672-428a-ad90-bd5a91d8e887
DTSTAMP:20260420T114551Z
DESCRIPTION:
DTSTART;TZID=America/Denver:20260313T140000
DTEND;TZID=America/Denver:20260313T160000
LOCATION:7524 139 Avenue
SUMMARY:St. Patrick's Day Celebration
END:VEVENT
END:VCALENDAR
