BEGIN:VCALENDAR
VERSION:2.0
PRODID:-//nesa1.ca//NONSGML kigkonsult.se iCalcreator 2.30.10//
CALSCALE:GREGORIAN
METHOD:PUBLISH
UID:90a1b199-e7d7-4243-9f79-a0aa2280defb
X-WR-CALDESC:
X-WR-RELCALID:0e9ecf0b6dc2c52c470b0cce1e8d842c
X-WR-TIMEZONE:America/Denver
BEGIN:VTIMEZONE
TZID:America/Denver
BEGIN:STANDARD
TZNAME:MST
DTSTART:20251102T020000
TZOFFSETFROM:-0600
TZOFFSETTO:-0700
RDATE:20261101T020000
END:STANDARD
BEGIN:DAYLIGHT
TZNAME:MDT
DTSTART:20260308T020000
TZOFFSETFROM:-0700
TZOFFSETTO:-0600
RDATE:20270314T020000
END:DAYLIGHT
END:VTIMEZONE
BEGIN:VEVENT
UID:1ed23034-e0ed-4987-93d3-3a2478bc9065
DTSTAMP:20260420T114331Z
DESCRIPTION:
DTSTART;TZID=America/Denver:20260313T123000
DTEND;TZID=America/Denver:20260313T153000
LOCATION:7524 139 Avenue
SUMMARY:Wizards of Odds 'n Ends Lobby Sale
END:VEVENT
END:VCALENDAR
