BEGIN:VCALENDAR
VERSION:2.0
PRODID:-//nesa1.ca//NONSGML kigkonsult.se iCalcreator 2.30.10//
CALSCALE:GREGORIAN
METHOD:PUBLISH
UID:22693a7c-e56e-455f-bb91-1937dda8a45d
X-WR-CALDESC:
X-WR-RELCALID:b663b52590e01c9270e1162c0fd02d8c
X-WR-TIMEZONE:America/Denver
BEGIN:VTIMEZONE
TZID:America/Denver
BEGIN:STANDARD
TZNAME:MST
DTSTART:20251102T020000
TZOFFSETFROM:-0600
TZOFFSETTO:-0700
RDATE:20261101T020000
END:STANDARD
BEGIN:DAYLIGHT
TZNAME:MDT
DTSTART:20260308T020000
TZOFFSETFROM:-0700
TZOFFSETTO:-0600
RDATE:20270314T020000
END:DAYLIGHT
END:VTIMEZONE
BEGIN:VEVENT
UID:b5bfeb95-3a64-4ac0-9f70-d83584fb1a27
DTSTAMP:20260420T114211Z
DESCRIPTION:
DTSTART;TZID=America/Denver:20260327T170000
DTEND;TZID=America/Denver:20260327T213000
LOCATION:7524 139 Avenue
SUMMARY:The Grand Dueling Piano Experience: Dinner & Show
END:VEVENT
END:VCALENDAR
