BEGIN:VCALENDAR
VERSION:2.0
PRODID:-//nesa1.ca//NONSGML kigkonsult.se iCalcreator 2.30.10//
CALSCALE:GREGORIAN
METHOD:PUBLISH
UID:34ce3c2a-2158-466a-a898-b5dd5bac743d
X-WR-CALDESC:
X-WR-RELCALID:5cf10d7a5277731d8b290fa934bbec1a
X-WR-TIMEZONE:America/Denver
BEGIN:VTIMEZONE
TZID:America/Denver
BEGIN:STANDARD
TZNAME:MST
DTSTART:20251102T020000
TZOFFSETFROM:-0600
TZOFFSETTO:-0700
RDATE:20261101T020000
END:STANDARD
BEGIN:DAYLIGHT
TZNAME:MDT
DTSTART:20260308T020000
TZOFFSETFROM:-0700
TZOFFSETTO:-0600
RDATE:20270314T020000
END:DAYLIGHT
END:VTIMEZONE
BEGIN:VEVENT
UID:4967d2b5-8425-4dec-9393-0a6086f1b5c6
DTSTAMP:20260420T133143Z
DESCRIPTION:
DTSTART;TZID=America/Denver:20260401T083000
DTEND;TZID=America/Denver:20260401T120000
LOCATION:7524 139 Avenue
SUMMARY:NESA's Bottle Drive
END:VEVENT
END:VCALENDAR
