BEGIN:VCALENDAR
VERSION:2.0
PRODID:-//nesa1.ca//NONSGML kigkonsult.se iCalcreator 2.30.10//
CALSCALE:GREGORIAN
METHOD:PUBLISH
UID:99f4d4ed-d8db-4c7a-8f2e-69c052a19fae
X-WR-CALDESC:
X-WR-RELCALID:21c8b3a03d3a48b1816fae7fe3344189
X-WR-TIMEZONE:America/Denver
BEGIN:VTIMEZONE
TZID:America/Denver
BEGIN:STANDARD
TZNAME:MST
DTSTART:20251102T020000
TZOFFSETFROM:-0600
TZOFFSETTO:-0700
RDATE:20261101T020000
END:STANDARD
BEGIN:DAYLIGHT
TZNAME:MDT
DTSTART:20250309T020000
TZOFFSETFROM:-0700
TZOFFSETTO:-0600
RDATE:20260308T020000
RDATE:20270314T020000
END:DAYLIGHT
END:VTIMEZONE
BEGIN:VEVENT
UID:5a2e5ad9-e5c3-45fa-b674-64ab3c2335cf
DTSTAMP:20260421T140840Z
DESCRIPTION:
DTSTART;TZID=America/Denver:20260309T040000
DTEND;TZID=America/Denver:20260430T040001
LOCATION:7524 139 Avenue
SUMMARY:Free Income Tax Program
END:VEVENT
END:VCALENDAR
