BEGIN:VCALENDAR
VERSION:2.0
PRODID:-//nesa1.ca//NONSGML kigkonsult.se iCalcreator 2.30.10//
CALSCALE:GREGORIAN
METHOD:PUBLISH
UID:14ba4299-f346-43be-b4bc-d60d67f2e40e
X-WR-CALDESC:
X-WR-RELCALID:5a580baf854c3a50c6ee1ef0a3789fea
X-WR-TIMEZONE:America/Denver
BEGIN:VTIMEZONE
TZID:America/Denver
BEGIN:STANDARD
TZNAME:MST
DTSTART:20251102T020000
TZOFFSETFROM:-0600
TZOFFSETTO:-0700
RDATE:20261101T020000
END:STANDARD
BEGIN:DAYLIGHT
TZNAME:MDT
DTSTART:20260308T020000
TZOFFSETFROM:-0700
TZOFFSETTO:-0600
RDATE:20270314T020000
END:DAYLIGHT
END:VTIMEZONE
BEGIN:VEVENT
UID:f5c9e6f6-c7f3-4c77-900b-387e313c1465
DTSTAMP:20260420T094328Z
DESCRIPTION:
DTSTART;TZID=America/Denver:20260502T140000
DTEND;TZID=America/Denver:20260502T160000
LOCATION:7524 139 Avenue
SUMMARY:Choralaires Presents: The Times They Are A-Changing
END:VEVENT
END:VCALENDAR
