BEGIN:VCALENDAR
VERSION:2.0
PRODID:-//nesa1.ca//NONSGML kigkonsult.se iCalcreator 2.30.10//
CALSCALE:GREGORIAN
METHOD:PUBLISH
UID:0b355555-539d-4229-9b82-1c3b19574bb4
X-WR-CALDESC:
X-WR-RELCALID:19210136c601b0ccfe948668f0e2a511
X-WR-TIMEZONE:America/Denver
BEGIN:VTIMEZONE
TZID:America/Denver
BEGIN:STANDARD
TZNAME:MST
DTSTART:20251102T020000
TZOFFSETFROM:-0600
TZOFFSETTO:-0700
RDATE:20261101T020000
RDATE:20271107T020000
END:STANDARD
BEGIN:DAYLIGHT
TZNAME:MDT
DTSTART:20260308T020000
TZOFFSETFROM:-0700
TZOFFSETTO:-0600
RDATE:20270314T020000
END:DAYLIGHT
END:VTIMEZONE
BEGIN:VEVENT
UID:e86f6d4f-9730-47f6-9ced-acdb83e45dcf
DTSTAMP:20260420T094029Z
DESCRIPTION:
DTSTART;TZID=America/Denver:20260523T090000
DTEND;TZID=America/Denver:20260523T150000
LOCATION:7524 139 Avenue
SUMMARY:Garage Sale
END:VEVENT
END:VCALENDAR
