BEGIN:VCALENDAR
VERSION:2.0
PRODID:-//nesa1.ca//NONSGML kigkonsult.se iCalcreator 2.30.10//
CALSCALE:GREGORIAN
METHOD:PUBLISH
UID:9edf1dbf-9b8d-4e95-a834-4fb23bc62697
X-WR-CALDESC:
X-WR-RELCALID:10cf605964d4074eafd1d714c3e86439
X-WR-TIMEZONE:America/Denver
BEGIN:VTIMEZONE
TZID:America/Denver
BEGIN:STANDARD
TZNAME:MST
DTSTART:20251102T020000
TZOFFSETFROM:-0600
TZOFFSETTO:-0700
RDATE:20261101T020000
RDATE:20271107T020000
END:STANDARD
BEGIN:DAYLIGHT
TZNAME:MDT
DTSTART:20260308T020000
TZOFFSETFROM:-0700
TZOFFSETTO:-0600
RDATE:20270314T020000
END:DAYLIGHT
END:VTIMEZONE
BEGIN:VEVENT
UID:8560c76f-305a-4a5a-9416-c1a641666d71
DTSTAMP:20260422T232655Z
DESCRIPTION:
DTSTART;TZID=America/Denver:20260523T090000
DTEND;TZID=America/Denver:20260523T150000
LOCATION:7524 139 Avenue
SUMMARY:Plant & Garden Sale
END:VEVENT
END:VCALENDAR
