BEGIN:VCALENDAR
VERSION:2.0
PRODID:-//nesa1.ca//NONSGML kigkonsult.se iCalcreator 2.30.10//
CALSCALE:GREGORIAN
METHOD:PUBLISH
UID:b6d86558-08cc-41d3-bf0a-358eb6ee57af
X-WR-CALDESC:
X-WR-RELCALID:b9de42c9bc12af08514a0899c315bea8
X-WR-TIMEZONE:America/Denver
BEGIN:VTIMEZONE
TZID:America/Denver
BEGIN:STANDARD
TZNAME:MST
DTSTART:20251102T020000
TZOFFSETFROM:-0600
TZOFFSETTO:-0700
RDATE:20261101T020000
RDATE:20271107T020000
END:STANDARD
BEGIN:DAYLIGHT
TZNAME:MDT
DTSTART:20260308T020000
TZOFFSETFROM:-0700
TZOFFSETTO:-0600
RDATE:20270314T020000
END:DAYLIGHT
END:VTIMEZONE
BEGIN:VEVENT
UID:f1f06b26-2bf8-417e-b948-47f2470c1e53
DTSTAMP:20260420T094740Z
DESCRIPTION:
DTSTART;TZID=America/Denver:20260601T130000
DTEND;TZID=America/Denver:20260601T150000
LOCATION:7524 139 Avenue
SUMMARY:Celebrate Seniors' Week with Bob Layton and Shane Blakely
END:VEVENT
END:VCALENDAR
